BEGIN:VCALENDAR
VERSION:2.0
PRODID:MYCMS/Calendar
METHOD:PUBLISH
BEGIN:VEVENT
UID:843c9d4e7ce9820f01857b8c30256cf3@mycms
LOCATION:Clubhaus
SUMMARY:Sitzung Gesamtvorstand
DESCRIPTION:Regelsitzung
CLASS:PUBLIC
DTSTART:20250902T190000Z
DTEND:20250902T220000Z
DTSTAMP:20260420T091326Z
END:VEVENT
END:VCALENDAR