BEGIN:VCALENDAR
VERSION:2.0
PRODID:MYCMS/Calendar
METHOD:PUBLISH
BEGIN:VEVENT
UID:da901b8a6def91bb040364c6d0adc47c@mycms
LOCATION:Clubhaus
SUMMARY:Sitzung geschäftsführender Vorstand
DESCRIPTION:Regelsitzung
CLASS:PUBLIC
DTSTART:20250805T190000Z
DTEND:20250805T220000Z
DTSTAMP:20260420T114645Z
END:VEVENT
END:VCALENDAR