BEGIN:VCALENDAR
VERSION:2.0
PRODID:MYCMS/Calendar
METHOD:PUBLISH
BEGIN:VEVENT
UID:089605d634a349e105fda6bfbec3bf66@mycms
LOCATION:Clubhaus
SUMMARY:Sitzung geschäftsführender Vorstand
DESCRIPTION:Regelsitzung
CLASS:PUBLIC
DTSTART:20250701T190000Z
DTEND:20250701T220000Z
DTSTAMP:20260420T125047Z
END:VEVENT
END:VCALENDAR