BEGIN:VCALENDAR
VERSION:2.0
PRODID:MYCMS/Calendar
METHOD:PUBLISH
BEGIN:VEVENT
UID:64a647704e2cb861e22eeccd18b55d29@mycms
LOCATION:Clubhaus
SUMMARY:Sitzung Gesamtvorstand
DESCRIPTION:Jedes Mitglied ist willkommen
CLASS:PUBLIC
DTSTART:20250603T190000Z
DTEND:20250603T210000Z
DTSTAMP:20260422T085034Z
END:VEVENT
END:VCALENDAR