BEGIN:VCALENDAR
VERSION:2.0
PRODID:MYCMS/Calendar
METHOD:PUBLISH
BEGIN:VEVENT
UID:6bf8a861d0f97181e33a69f71f2dcca6@mycms
LOCATION:beim RKC
SUMMARY:Arbeitsdienst
DESCRIPTION:Details werden im Klubraum beschrieben
CLASS:PUBLIC
DTSTART:20250621T090000Z
DTEND:20250621T130000Z
DTSTAMP:20260420T143739Z
END:VEVENT
END:VCALENDAR