BEGIN:VCALENDAR
VERSION:2.0
PRODID:MYCMS/Calendar
METHOD:PUBLISH
BEGIN:VEVENT
UID:ee65d834c4d1114962e73f8d255a2eec@mycms
LOCATION:Wustrow
SUMMARY:Mecklenburger Seenplatte
DESCRIPTION:Paddeln auf den Mecklenburger Seen
CLASS:PUBLIC
DTSTART:20250430T150000Z
DTEND:20250504T190000Z
DTSTAMP:20260420T161149Z
END:VEVENT
END:VCALENDAR