BEGIN:VCALENDAR
VERSION:2.0
PRODID:MYCMS/Calendar
METHOD:PUBLISH
BEGIN:VEVENT
UID:cf33bf681d900b0f151c50b2bf91fd62@mycms
LOCATION:Clubhaus
SUMMARY:Vorstandssitzung
DESCRIPTION:Sitzung Geschäftsführender Vorstand
CLASS:PUBLIC
DTSTART:20250401T190000Z
DTEND:20250401T220000Z
DTSTAMP:20260420T173530Z
END:VEVENT
END:VCALENDAR