BEGIN:VCALENDAR
VERSION:2.0
PRODID:MYCMS/Calendar
METHOD:PUBLISH
BEGIN:VEVENT
UID:82de62343fd1ff601613ea8d459c5b9b@mycms
LOCATION:Treffen am Bootshaus
SUMMARY:Vierlandenfahrt
DESCRIPTION:Paddeltour durch die Vier- und Marschlande
CLASS:PUBLIC
DTSTART:20250329T100000Z
DTEND:20250329T160000Z
DTSTAMP:20260420T181836Z
END:VEVENT
END:VCALENDAR