BEGIN:VCALENDAR
VERSION:2.0
PRODID:MYCMS/Calendar
METHOD:PUBLISH
BEGIN:VEVENT
UID:4cbd73279b4a5c9623050f0c3deb0ed9@mycms
LOCATION:Clubhaus
SUMMARY:Spieleabend
DESCRIPTION:Kurzweil am Kamin
CLASS:PUBLIC
DTSTART:20250314T190000Z
DTEND:20250314T220000Z
DTSTAMP:20260420T185148Z
END:VEVENT
END:VCALENDAR