BEGIN:VCALENDAR
VERSION:2.0
PRODID:MYCMS/Calendar
METHOD:PUBLISH
BEGIN:VEVENT
UID:fd8f72702947bdfd384de9e6838e9e33@mycms
LOCATION:RKC
SUMMARY:Abpaddeln
DESCRIPTION:Saisonende
CLASS:PUBLIC
DTSTART:20250928T100000Z
DTEND:20250928T150000Z
DTSTAMP:20260420T082151Z
END:VEVENT
END:VCALENDAR