BEGIN:VCALENDAR
VERSION:2.0
PRODID:MYCMS/Calendar
METHOD:PUBLISH
BEGIN:VEVENT
UID:bf7c6e7daa5e6b79cbf5f575631977fc@mycms
LOCATION:Näheres in der Ausschreibung
SUMMARY:RKC-Mixed
DESCRIPTION:Näheres in der Ausschreibung
CLASS:PUBLIC
DTSTART:20250913T090000Z
DTEND:20250914T180000Z
DTSTAMP:20260420T081835Z
END:VEVENT
END:VCALENDAR