BEGIN:VCALENDAR
VERSION:2.0
PRODID:MYCMS/Calendar
METHOD:PUBLISH
BEGIN:VEVENT
UID:65a0dfa7635f1250edb8f846f678d8fa@mycms
LOCATION:Näheres in der Ausschreibung
SUMMARY:Nordsee
DESCRIPTION:Näheres in der Ausschreibung
CLASS:PUBLIC
DTSTART:20250912T090000Z
DTEND:20250914T180000Z
DTSTAMP:20260422T084410Z
END:VEVENT
END:VCALENDAR