BEGIN:VCALENDAR
VERSION:2.0
PRODID:MYCMS/Calendar
METHOD:PUBLISH
BEGIN:VEVENT
UID:cacbbc1349631b009488b5d9601116ff@mycms
LOCATION:Näheres in der Ausschreibung
SUMMARY:Liga-Meisterschaft
DESCRIPTION:Näheres in der Ausschreibung
CLASS:PUBLIC
DTSTART:20250901T090000Z
DTEND:20250903T180000Z
DTSTAMP:20260420T091143Z
END:VEVENT
END:VCALENDAR