BEGIN:VCALENDAR
VERSION:2.0
PRODID:MYCMS/Calendar
METHOD:PUBLISH
BEGIN:VEVENT
UID:583f08127be0be3b78dd3fa9069a2f14@mycms
LOCATION:Näheres in der Ausschreibung
SUMMARY:Schweden Ostschären
DESCRIPTION:Näheres in der Ausschreibung
CLASS:PUBLIC
DTSTART:20250809T090000Z
DTEND:20250817T180000Z
DTSTAMP:20260420T100746Z
END:VEVENT
END:VCALENDAR