BEGIN:VCALENDAR
VERSION:2.0
PRODID:MYCMS/Calendar
METHOD:PUBLISH
BEGIN:VEVENT
UID:f4630e580529b89ee29f1cd61818e9e4@mycms
LOCATION:Näheres in der Ausschreibung
SUMMARY:Potsdam
DESCRIPTION:Näheres in der Ausschreibung
CLASS:PUBLIC
DTSTART:20250801T090000Z
DTEND:20250803T180000Z
DTSTAMP:20260420T094722Z
END:VEVENT
END:VCALENDAR