BEGIN:VCALENDAR
VERSION:2.0
PRODID:MYCMS/Calendar
METHOD:PUBLISH
BEGIN:VEVENT
UID:c64c804fa3db237035b2e9a853c4d157@mycms
LOCATION:Näheres in der Ausschreibung
SUMMARY:RKC-Mixed
DESCRIPTION:Näheres in der Ausschreibung
CLASS:PUBLIC
DTSTART:20250719T090000Z
DTEND:20250720T180000Z
DTSTAMP:20260420T125350Z
END:VEVENT
END:VCALENDAR