BEGIN:VCALENDAR
VERSION:2.0
PRODID:MYCMS/Calendar
METHOD:PUBLISH
BEGIN:VEVENT
UID:7a628d2e0380aef72c0af5d7f31f99a9@mycms
LOCATION:Näheres in der Ausschreibung
SUMMARY:Boiensdorfer Werder
DESCRIPTION:Näheres in der Ausschreibung
CLASS:PUBLIC
DTSTART:20250712T090000Z
DTEND:20250713T180000Z
DTSTAMP:20260420T124837Z
END:VEVENT
END:VCALENDAR