BEGIN:VCALENDAR
VERSION:2.0
PRODID:MYCMS/Calendar
METHOD:PUBLISH
BEGIN:VEVENT
UID:d6012f0c7f7bb84536cd167ba0ecd047@mycms
LOCATION:Näheres in der Ausschreibung
SUMMARY:Spieltag Coburg
DESCRIPTION:Näheres in der Ausschreibung
CLASS:PUBLIC
DTSTART:20250712T090000Z
DTEND:20250713T180000Z
DTSTAMP:20260420T125447Z
END:VEVENT
END:VCALENDAR