BEGIN:VCALENDAR
VERSION:2.0
PRODID:MYCMS/Calendar
METHOD:PUBLISH
BEGIN:VEVENT
UID:5c733bcfa80cdb0b83f86430c9337770@mycms
LOCATION:Näheres in der Ausschreibung
SUMMARY:Spieltag Rostock
DESCRIPTION:Näheres in der Ausschreibung
CLASS:PUBLIC
DTSTART:20250705T090000Z
DTEND:20250706T180000Z
DTSTAMP:20260420T125201Z
END:VEVENT
END:VCALENDAR