BEGIN:VCALENDAR
VERSION:2.0
PRODID:MYCMS/Calendar
METHOD:PUBLISH
BEGIN:VEVENT
UID:95ca5fd4f0ce8dd55ea4b2b16e2fc63b@mycms
LOCATION:RKC
SUMMARY:Mittsommerpaddeln
DESCRIPTION:Grillen, Quatschen und Paddeln
CLASS:PUBLIC
DTSTART:20250621T180000Z
DTEND:20250621T230000Z
DTSTAMP:20260420T134933Z
END:VEVENT
END:VCALENDAR