BEGIN:VCALENDAR
VERSION:2.0
PRODID:MYCMS/Calendar
METHOD:PUBLISH
BEGIN:VEVENT
UID:dfd4aa600393e1f9cdc886310d569512@mycms
LOCATION:Näheres in der Ausschreibung
SUMMARY:Jugendfahrt
DESCRIPTION:Näheres in der Ausschreibung
CLASS:PUBLIC
DTSTART:20250614T090000Z
DTEND:20250614T180000Z
DTSTAMP:20260420T131628Z
END:VEVENT
END:VCALENDAR