BEGIN:VCALENDAR
VERSION:2.0
PRODID:MYCMS/Calendar
METHOD:PUBLISH
BEGIN:VEVENT
UID:dda116fe21aa26c9c29ce58b163ea812@mycms
LOCATION:Näheres in der Ausschreibung
SUMMARY:D-Cup
DESCRIPTION:Näheres in der Ausschreibung
CLASS:PUBLIC
DTSTART:20250607T090000Z
DTEND:20250609T180000Z
DTSTAMP:20260420T142038Z
END:VEVENT
END:VCALENDAR