BEGIN:VCALENDAR
VERSION:2.0
PRODID:MYCMS/Calendar
METHOD:PUBLISH
BEGIN:VEVENT
UID:a0d086d9c24a98dadc74c2ab03c33ee7@mycms
LOCATION:Näheres in der Ausschreibung
SUMMARY:Spieltag in Amsterdam
DESCRIPTION:Näheres in der Ausschreibung
CLASS:PUBLIC
DTSTART:20250531T090000Z
DTEND:20250601T180000Z
DTSTAMP:20260420T142353Z
END:VEVENT
END:VCALENDAR