BEGIN:VCALENDAR
VERSION:2.0
PRODID:MYCMS/Calendar
METHOD:PUBLISH
BEGIN:VEVENT
UID:e914c5b5d38c5f3d655a8f3d4337c2a2@mycms
LOCATION:Näheres in der Ausschreibung
SUMMARY:Himmelfahrt in Holland
DESCRIPTION:Näheres in der Ausschreibung
CLASS:PUBLIC
DTSTART:20250528T090000Z
DTEND:20250601T180000Z
DTSTAMP:20260420T135011Z
END:VEVENT
END:VCALENDAR