BEGIN:VCALENDAR
VERSION:2.0
PRODID:MYCMS/Calendar
METHOD:PUBLISH
BEGIN:VEVENT
UID:324edc90a319c757b55f3fe359e16e43@mycms
LOCATION:Näheres in der Ausschreibung
SUMMARY:Spieltag in Ratzeburg
DESCRIPTION:Näheres in der Ausschreibung
CLASS:PUBLIC
DTSTART:20250524T090000Z
DTEND:20250525T180000Z
DTSTAMP:20260420T160009Z
END:VEVENT
END:VCALENDAR