BEGIN:VCALENDAR
VERSION:2.0
PRODID:MYCMS/Calendar
METHOD:PUBLISH
BEGIN:VEVENT
UID:4e0437a1c848155b08e9886d2c32560c@mycms
LOCATION:Näheres in der Ausschreibung
SUMMARY:Elbefahrt
DESCRIPTION:Näheres in der Ausschreibung
CLASS:PUBLIC
DTSTART:20250511T090000Z
DTEND:20250511T180000Z
DTSTAMP:20260420T145436Z
END:VEVENT
END:VCALENDAR