BEGIN:VCALENDAR
VERSION:2.0
PRODID:MYCMS/Calendar
METHOD:PUBLISH
BEGIN:VEVENT
UID:083664ccfc7ad95d3aed82129a85dd3a@mycms
LOCATION:Clubhaus
SUMMARY:Jugendversammlung
DESCRIPTION:Kdnfghu%g35$
CLASS:PUBLIC
DTSTART:20250308T150000Z
DTEND:20250308T190000Z
DTSTAMP:20260420T183731Z
END:VEVENT
END:VCALENDAR