BEGIN:VCALENDAR
VERSION:2.0
PRODID:MYCMS/Calendar
METHOD:PUBLISH
BEGIN:VEVENT
UID:798fbf72cb913a01e6084c0c4bb6b6fb@mycms
LOCATION:Club-Gelände
SUMMARY:Anpaddeln
DESCRIPTION:Saisonauftakt
CLASS:PUBLIC
DTSTART:20250406T090000Z
DTEND:20250406T160000Z
DTSTAMP:20260420T174520Z
END:VEVENT
END:VCALENDAR