BEGIN:VCALENDAR
VERSION:2.0
PRODID:MYCMS/Calendar
METHOD:PUBLISH
BEGIN:VEVENT
UID:70851371a4475c1e7fe9d69d399d0679@mycms
LOCATION:Mecklenburger Seenplatte
SUMMARY:Kinder- + Jugend-Paddeltour
DESCRIPTION:siehe Ausschreibung Newsletter
CLASS:PUBLIC
DTSTART:20250901T090000Z
DTEND:20250905T180000Z
DTSTAMP:20260420T091852Z
END:VEVENT
END:VCALENDAR