BEGIN:VCALENDAR
VERSION:2.0
PRODID:MYCMS/Calendar
METHOD:PUBLISH
BEGIN:VEVENT
UID:47e33f2e9fee2ebb9aae860346e48baf@mycms
LOCATION:Clubhaus
SUMMARY:Kinderfasching
DESCRIPTION:siehe Newsletter
CLASS:PUBLIC
DTSTART:20250222T150000Z
DTEND:20250222T180000Z
DTSTAMP:20260420T210315Z
END:VEVENT
END:VCALENDAR