BEGIN:VCALENDAR
VERSION:2.0
PRODID:MYCMS/Calendar
METHOD:PUBLISH
BEGIN:VEVENT
UID:4d0d91d1e931cfd0be8b59419363d632@mycms
LOCATION:Kurpark in der Nähe der Schwimmhalle
SUMMARY:Osterfeuer
DESCRIPTION:Veranstalter ist die Stadt Ratzeburg
CLASS:PUBLIC
DTSTART:20250419T180000Z
DTEND:20250419T210000Z
DTSTAMP:20260420T175230Z
END:VEVENT
END:VCALENDAR