BEGIN:VCALENDAR
VERSION:2.0
PRODID:MYCMS/Calendar
METHOD:PUBLISH
BEGIN:VEVENT
UID:2ff12024c31cb3ab5cfc3a9d5b5e76ac@mycms
LOCATION:Clubhaus
SUMMARY:Vorstandssitzung
DESCRIPTION:Vorstandssitzung
CLASS:PUBLIC
DTSTART:20250304T190000Z
DTEND:20250304T210000Z
DTSTAMP:20260420T191417Z
END:VEVENT
END:VCALENDAR