BEGIN:VCALENDAR
VERSION:2.0
PRODID:MYCMS/Calendar
METHOD:PUBLISH
BEGIN:VEVENT
UID:65643f6b8f63137f68165271e5b69155@mycms
LOCATION:wird noch gesucht
SUMMARY:JHV
DESCRIPTION:Jahreshauptversammlung
CLASS:PUBLIC
DTSTART:20250328T190000Z
DTEND:20250328T220000Z
DTSTAMP:20260420T191854Z
END:VEVENT
END:VCALENDAR