BEGIN:VCALENDAR
VERSION:2.0
PRODID:MYCMS/Calendar
METHOD:PUBLISH
BEGIN:VEVENT
UID:ef95a4671178028e04c58daef5ead53e@mycms
LOCATION:Clubhaus
SUMMARY:Grünkohlessen
DESCRIPTION:vor dem Grünkohl (18:30) gibt es den Kohlgang - Start 17 Uhr
CLASS:PUBLIC
DTSTART:20250215T170000Z
DTEND:20250215T220000Z
DTSTAMP:20260420T205543Z
END:VEVENT
END:VCALENDAR