BEGIN:VCALENDAR
VERSION:2.0
PRODID:MYCMS/Calendar
METHOD:PUBLISH
BEGIN:VEVENT
UID:d327c6ce89384928ef7455d1d1e69f20@mycms
LOCATION:Clubhaus
SUMMARY:Spieleabend
DESCRIPTION:Spieleabend
CLASS:PUBLIC
DTSTART:20250110T190000Z
DTEND:20250110T220000Z
DTSTAMP:20260421T002713Z
END:VEVENT
END:VCALENDAR