BEGIN:VCALENDAR
VERSION:2.0
PRODID:MYCMS/Calendar
METHOD:PUBLISH
BEGIN:VEVENT
UID:9a6a39ae7c9e41b5e967f8d367fc6471@mycms
LOCATION:Clubhaus
SUMMARY:Vorstandssitzung
DESCRIPTION:Vorstandsitzung
CLASS:PUBLIC
DTSTART:20250107T190000Z
DTEND:20250107T210000Z
DTSTAMP:20260420T224255Z
END:VEVENT
END:VCALENDAR