BEGIN:VCALENDAR
VERSION:2.0
PRODID:MYCMS/Calendar
METHOD:PUBLISH
BEGIN:VEVENT
UID:342ec9e4a2aac846281440577d87ad57@mycms
LOCATION:Klubhaus
SUMMARY:Opa-Treffen
DESCRIPTION:Opa Horst lädt ein
CLASS:PUBLIC
DTSTART:20241201T100000Z
DTEND:20241201T160000Z
DTSTAMP:20260421T002759Z
END:VEVENT
END:VCALENDAR