BEGIN:VCALENDAR
VERSION:2.0
PRODID:MYCMS/Calendar
METHOD:PUBLISH
BEGIN:VEVENT
UID:84a1e30291f595ddd705f674f899b70e@mycms
LOCATION:Kanuclub
SUMMARY:Silvesterlauf
DESCRIPTION:Laufen, Walken, Paddeln... anschließend Schnattern bei Glühwein und Berlinern
CLASS:PUBLIC
DTSTART:20241231T100000Z
DTEND:20241231T150000Z
DTSTAMP:20260421T002759Z
END:VEVENT
END:VCALENDAR