BEGIN:VCALENDAR
VERSION:2.0
PRODID:MYCMS/Calendar
METHOD:PUBLISH
BEGIN:VEVENT
UID:17c1c12ff6d116e9126552717eaafe6d@mycms
LOCATION:Kanuclub
SUMMARY:Weihnachtsfeier
DESCRIPTION:Feiern und Paddeln zur Weihnachtszeit
CLASS:PUBLIC
DTSTART:20241215T140000Z
DTEND:20241215T180000Z
DTSTAMP:20260421T002415Z
END:VEVENT
END:VCALENDAR