BEGIN:VCALENDAR
VERSION:2.0
PRODID:MYCMS/Calendar
METHOD:PUBLISH
BEGIN:VEVENT
UID:ed099e1dca9a06d0a4358525471d2273@mycms
LOCATION:Ratzeburg
SUMMARY:6. Nikolaus-Regatta
DESCRIPTION:Rennen über die Ratzeburger Seen
CLASS:PUBLIC
DTSTART:20241208T090000Z
DTEND:20241208T180000Z
DTSTAMP:20260421T002548Z
END:VEVENT
END:VCALENDAR